BEGIN:VCALENDAR
VERSION:2.0
PRODID:-//81.169.145.165//NONSGML kigkonsult.se iCalcreator 2.20//
CALSCALE:GREGORIAN
METHOD:PUBLISH
X-WR-TIMEZONE:UTC
BEGIN:VEVENT
UID:event1@Gemeindefeuerwehr Großrückerswalde
DTSTAMP:20260419T215039Z
CATEGORIES:Ortsfeuerwehr Großrückerswalde
DESCRIPTION:Feuerwehrfest Großrückerswalde\nKategorie: Ortsfeuerwehr Großrü
 ckerswalde\nICS-Link: https://www.feuerwehr-grossrueckerswalde.de/index.ph
 p?option=com_jem&view=event&id=1:feuerwehrfest-grossrueckerswalde\n
DTSTART;VALUE=DATE:20150620
DTEND;VALUE=DATE:20150622
SUMMARY:Feuerwehrfest Großrückerswalde
URL:https://www.feuerwehr-grossrueckerswalde.de/index.php?option=com_jem&vi
 ew=event&id=1:feuerwehrfest-grossrueckerswalde
END:VEVENT
END:VCALENDAR
