BEGIN:VCALENDAR
VERSION:2.0
PRODID:-//81.169.145.165//NONSGML kigkonsult.se iCalcreator 2.20//
CALSCALE:GREGORIAN
METHOD:PUBLISH
X-WR-TIMEZONE:UTC
BEGIN:VEVENT
UID:event100@Gemeindefeuerwehr Großrückerswalde
DTSTAMP:20260419T221632Z
CATEGORIES:OF Großrückerswalde
DESCRIPTION:Großrückerswalde Pflege- & Reinigungsdienst\nKategorie: OF Groß
 rückerswalde\nICS-Link: https://www.feuerwehr-grossrueckerswalde.de/index.
 php?option=com_jem&view=event&id=100:grossrueckerswalde-pflege-reinigungsd
 ienst\n
DTSTART:20170926T190000Z
DTEND:20170926T190000Z
LOCATION:Gerätehaus Großrückerswalde\,Marienberger Str. 72\,09518 Grossrück
 erswalde
SUMMARY:Großrückerswalde Pflege- & Reinigungsdienst
URL:https://www.feuerwehr-grossrueckerswalde.de/index.php?option=com_jem&vi
 ew=event&id=100:grossrueckerswalde-pflege-reinigungsdienst
END:VEVENT
END:VCALENDAR
