BEGIN:VCALENDAR
VERSION:2.0
PRODID:-//81.169.145.165//NONSGML kigkonsult.se iCalcreator 2.20//
CALSCALE:GREGORIAN
METHOD:PUBLISH
X-WR-TIMEZONE:UTC
BEGIN:VEVENT
UID:event103@Gemeindefeuerwehr Großrückerswalde
DTSTAMP:20260419T234910Z
CATEGORIES:OF Großrückerswalde
DESCRIPTION:Großrückerswalde Wasserförderung / Wasserentnahmestellen\nKateg
 orie: OF Großrückerswalde\nICS-Link: https://www.feuerwehr-grossrueckerswa
 lde.de/index.php?option=com_jem&view=event&id=103:grossrueckerswalde-wasse
 rfoerderung-wasserentnahmestellen\n
DTSTART:20170912T193000Z
DTEND:20170912T193000Z
LOCATION:Gerätehaus Großrückerswalde\,Marienberger Str. 72\,09518 Grossrück
 erswalde
SUMMARY:Großrückerswalde Wasserförderung / Wasserentnahmestellen
URL:https://www.feuerwehr-grossrueckerswalde.de/index.php?option=com_jem&vi
 ew=event&id=103:grossrueckerswalde-wasserfoerderung-wasserentnahmestellen
END:VEVENT
END:VCALENDAR
