BEGIN:VCALENDAR
VERSION:2.0
PRODID:-//81.169.145.165//NONSGML kigkonsult.se iCalcreator 2.20//
CALSCALE:GREGORIAN
METHOD:PUBLISH
X-WR-TIMEZONE:UTC
BEGIN:VEVENT
UID:event104@Gemeindefeuerwehr Großrückerswalde
DTSTAMP:20260420T031937Z
CATEGORIES:OF Großrückerswalde
DESCRIPTION:Großrückerswalde Ausbildungsnachmittag\nKategorie: OF Großrücke
 rswalde\nICS-Link: https://www.feuerwehr-grossrueckerswalde.de/index.php?o
 ption=com_jem&view=event&id=104:grossrueckerswalde-ausbildungsnachmittag\n
DTSTART:20170930T140000Z
DTEND:20170930T140000Z
LOCATION:Gerätehaus Großrückerswalde\,Marienberger Str. 72\,09518 Grossrück
 erswalde
SUMMARY:Großrückerswalde Ausbildungsnachmittag
URL:https://www.feuerwehr-grossrueckerswalde.de/index.php?option=com_jem&vi
 ew=event&id=104:grossrueckerswalde-ausbildungsnachmittag
END:VEVENT
END:VCALENDAR
