BEGIN:VCALENDAR
VERSION:2.0
PRODID:-//81.169.145.165//NONSGML kigkonsult.se iCalcreator 2.20//
CALSCALE:GREGORIAN
METHOD:PUBLISH
X-WR-TIMEZONE:UTC
BEGIN:VEVENT
UID:event105@Gemeindefeuerwehr Großrückerswalde
DTSTAMP:20260419T234801Z
CATEGORIES:OF Großrückerswalde
DESCRIPTION:Großrückerswalde Gefahrguteinsatz Oberschule\nKategorie: OF Gro
 ßrückerswalde\nICS-Link: https://www.feuerwehr-grossrueckerswalde.de/index
 .php?option=com_jem&view=event&id=105:grossrueckerswalde-gefahrguteinsatz-
 oberschule\n
DTSTART:20171010T193000Z
DTEND:20171010T193000Z
LOCATION:Gerätehaus Großrückerswalde\,Marienberger Str. 72\,09518 Grossrück
 erswalde
SUMMARY:Großrückerswalde Gefahrguteinsatz Oberschule
URL:https://www.feuerwehr-grossrueckerswalde.de/index.php?option=com_jem&vi
 ew=event&id=105:grossrueckerswalde-gefahrguteinsatz-oberschule
END:VEVENT
END:VCALENDAR
