BEGIN:VCALENDAR
VERSION:2.0
PRODID:-//81.169.145.165//NONSGML kigkonsult.se iCalcreator 2.20//
CALSCALE:GREGORIAN
METHOD:PUBLISH
X-WR-TIMEZONE:UTC
BEGIN:VEVENT
UID:event106@Gemeindefeuerwehr Großrückerswalde
DTSTAMP:20260420T045732Z
CATEGORIES:OF Großrückerswalde
DESCRIPTION:Großrückerswalde Dienstsport / Atemschutztraining\nKategorie: O
 F Großrückerswalde\nICS-Link: https://www.feuerwehr-grossrueckerswalde.de/
 index.php?option=com_jem&view=event&id=106:grossrueckerswalde-dienstsport-
 atemschutztraining\n
DTSTART:20171017T193000Z
DTEND:20171017T193000Z
LOCATION:Gerätehaus Großrückerswalde\,Marienberger Str. 72\,09518 Grossrück
 erswalde
SUMMARY:Großrückerswalde Dienstsport / Atemschutztraining
URL:https://www.feuerwehr-grossrueckerswalde.de/index.php?option=com_jem&vi
 ew=event&id=106:grossrueckerswalde-dienstsport-atemschutztraining
END:VEVENT
END:VCALENDAR
