BEGIN:VCALENDAR
VERSION:2.0
PRODID:-//81.169.145.165//NONSGML kigkonsult.se iCalcreator 2.20//
CALSCALE:GREGORIAN
METHOD:PUBLISH
X-WR-TIMEZONE:UTC
BEGIN:VEVENT
UID:event108@Gemeindefeuerwehr Großrückerswalde
DTSTAMP:20260419T233804Z
CATEGORIES:Gemeindefeuerwehr
DESCRIPTION:Gemeindewehr Ausbildung Digitalfunk\nKategorie: Gemeindefeuerwe
 hr\nICS-Link: https://www.feuerwehr-grossrueckerswalde.de/index.php?option
 =com_jem&view=event&id=108:gemeindewehr-ausbildung-digitalfunk\n
DTSTART:20171103T193000Z
DTEND:20171103T193000Z
LOCATION:Oberschule Großrückerswalde\,Wolkensteiner Straße 3\,09518 Großrüc
 kerswalde
SUMMARY:Gemeindewehr Ausbildung Digitalfunk
URL:https://www.feuerwehr-grossrueckerswalde.de/index.php?option=com_jem&vi
 ew=event&id=108:gemeindewehr-ausbildung-digitalfunk
END:VEVENT
END:VCALENDAR
