BEGIN:VCALENDAR
VERSION:2.0
PRODID:-//81.169.145.165//NONSGML kigkonsult.se iCalcreator 2.20//
CALSCALE:GREGORIAN
METHOD:PUBLISH
X-WR-TIMEZONE:UTC
BEGIN:VEVENT
UID:event109@Gemeindefeuerwehr Großrückerswalde
DTSTAMP:20260420T064710Z
CATEGORIES:OF Großrückerswalde
DESCRIPTION:Großrückerswalde Gefahren an der Einsatzstelle\nKategorie: OF G
 roßrückerswalde\nICS-Link: https://www.feuerwehr-grossrueckerswalde.de/ind
 ex.php?option=com_jem&view=event&id=109:grossrueckerswalde-gefahren-an-der
 -einsatzstelle\n
DTSTART:20171107T193000Z
DTEND:20171107T193000Z
LOCATION:Gerätehaus Großrückerswalde\,Marienberger Str. 72\,09518 Grossrück
 erswalde
SUMMARY:Großrückerswalde Gefahren an der Einsatzstelle
URL:https://www.feuerwehr-grossrueckerswalde.de/index.php?option=com_jem&vi
 ew=event&id=109:grossrueckerswalde-gefahren-an-der-einsatzstelle
END:VEVENT
END:VCALENDAR
