BEGIN:VCALENDAR
VERSION:2.0
PRODID:-//81.169.145.165//NONSGML kigkonsult.se iCalcreator 2.20//
CALSCALE:GREGORIAN
METHOD:PUBLISH
X-WR-TIMEZONE:UTC
BEGIN:VEVENT
UID:event11@Gemeindefeuerwehr Großrückerswalde
DTSTAMP:20260420T012930Z
CATEGORIES:Gemeindefeuerwehr Großrückerswalde
DESCRIPTION:Gemeindefeuerwehrball in Streckewalde\nKategorie: Gemeindefeuer
 wehr Großrückerswalde\nICS-Link: https://www.feuerwehr-grossrueckerswalde.
 de/index.php?option=com_jem&view=event&id=11:gemeindefeuerwehrball-in-stre
 ckewalde\n
DTSTART;VALUE=DATE:20160116
DTEND;VALUE=DATE:20160117
LOCATION:Streckewalde Turnhalle\,Bergstraße 51A\,09518 Streckewalde
SUMMARY:Gemeindefeuerwehrball in Streckewalde
URL:https://www.feuerwehr-grossrueckerswalde.de/index.php?option=com_jem&vi
 ew=event&id=11:gemeindefeuerwehrball-in-streckewalde
END:VEVENT
END:VCALENDAR
