BEGIN:VCALENDAR
VERSION:2.0
PRODID:-//81.169.145.165//NONSGML kigkonsult.se iCalcreator 2.20//
CALSCALE:GREGORIAN
METHOD:PUBLISH
X-WR-TIMEZONE:UTC
BEGIN:VEVENT
UID:event112@Gemeindefeuerwehr Großrückerswalde
DTSTAMP:20260419T214555Z
CATEGORIES:OF Großrückerswalde
DESCRIPTION:Großrückerswalde Modulausbildung Digitalfunk\nKategorie: OF Gro
 ßrückerswalde\nICS-Link: https://www.feuerwehr-grossrueckerswalde.de/index
 .php?option=com_jem&view=event&id=112:grossrueckerswalde-modulausbildung-d
 igitalfunk\n
DTSTART:20171212T193000Z
DTEND:20171212T193000Z
LOCATION:Oberschule Großrückerswalde\,Wolkensteiner Straße 3\,09518 Großrüc
 kerswalde
SUMMARY:Großrückerswalde Modulausbildung Digitalfunk
URL:https://www.feuerwehr-grossrueckerswalde.de/index.php?option=com_jem&vi
 ew=event&id=112:grossrueckerswalde-modulausbildung-digitalfunk
END:VEVENT
END:VCALENDAR
