BEGIN:VCALENDAR
VERSION:2.0
PRODID:-//81.169.145.165//NONSGML kigkonsult.se iCalcreator 2.20//
CALSCALE:GREGORIAN
METHOD:PUBLISH
X-WR-TIMEZONE:UTC
BEGIN:VEVENT
UID:event113@Gemeindefeuerwehr Großrückerswalde
DTSTAMP:20260420T064634Z
CATEGORIES:Ortsfeuerwehr Streckewalde
DESCRIPTION:Tag der offenen Tür FF Streckewalde\nKategorie: Ortsfeuerwehr S
 treckewalde\nICS-Link: https://www.feuerwehr-grossrueckerswalde.de/index.p
 hp?option=com_jem&view=event&id=113:tag-der-offenen-tuer-ff-streckewalde\n
DTSTART:20170909T140000Z
DTEND:20170909T140000Z
LOCATION:Gerätehaus Streckewalde\,Bergstraße 5a\,09518 Streckewalde
SUMMARY:Tag der offenen Tür FF Streckewalde
URL:https://www.feuerwehr-grossrueckerswalde.de/index.php?option=com_jem&vi
 ew=event&id=113:tag-der-offenen-tuer-ff-streckewalde
END:VEVENT
END:VCALENDAR
