BEGIN:VCALENDAR
VERSION:2.0
PRODID:-//81.169.145.165//NONSGML kigkonsult.se iCalcreator 2.20//
CALSCALE:GREGORIAN
METHOD:PUBLISH
X-WR-TIMEZONE:UTC
BEGIN:VEVENT
UID:event114@Gemeindefeuerwehr Großrückerswalde
DTSTAMP:20260419T234751Z
CATEGORIES:Ortsfeuerwehr Mauersberg
DESCRIPTION:Tag der offenen Tür FF Mauersberg\nKategorie: Ortsfeuerwehr Mau
 ersberg\nICS-Link: https://www.feuerwehr-grossrueckerswalde.de/index.php?o
 ption=com_jem&view=event&id=114:tag-der-offenen-tuer-ff-mauersberg\n
DTSTART;VALUE=DATE:20180714
DTEND;VALUE=DATE:20180716
LOCATION:Gerätehaus Mauersberg\,Hauptstraße 4\,09518 Mauersberg
SUMMARY:Tag der offenen Tür FF Mauersberg
URL:https://www.feuerwehr-grossrueckerswalde.de/index.php?option=com_jem&vi
 ew=event&id=114:tag-der-offenen-tuer-ff-mauersberg
END:VEVENT
END:VCALENDAR
