BEGIN:VCALENDAR
VERSION:2.0
PRODID:-//81.169.145.165//NONSGML kigkonsult.se iCalcreator 2.20//
CALSCALE:GREGORIAN
METHOD:PUBLISH
X-WR-TIMEZONE:UTC
BEGIN:VEVENT
UID:event115@Gemeindefeuerwehr Großrückerswalde
DTSTAMP:20260419T215347Z
CATEGORIES:Ortsfeuerwehr Streckewalde
DESCRIPTION:777 Jahre Streckewalde mit Helfertag\nKategorie: Ortsfeuerwehr 
 Streckewalde\nICS-Link: https://www.feuerwehr-grossrueckerswalde.de/index.
 php?option=com_jem&view=event&id=115:777-jahre-streckewalde-mit-helfertag
 \n
DTSTART;VALUE=DATE:20180629
DTEND;VALUE=DATE:20180702
LOCATION:Gerätehaus Streckewalde\,Bergstraße 5a\,09518 Streckewalde
SUMMARY:777 Jahre Streckewalde mit Helfertag
URL:https://www.feuerwehr-grossrueckerswalde.de/index.php?option=com_jem&vi
 ew=event&id=115:777-jahre-streckewalde-mit-helfertag
END:VEVENT
END:VCALENDAR
