BEGIN:VCALENDAR
VERSION:2.0
PRODID:-//81.169.145.165//NONSGML kigkonsult.se iCalcreator 2.20//
CALSCALE:GREGORIAN
METHOD:PUBLISH
X-WR-TIMEZONE:UTC
BEGIN:VEVENT
UID:event116@Gemeindefeuerwehr Großrückerswalde
DTSTAMP:20260419T233857Z
CATEGORIES:Gemeindefeuerwehr Großrückerswalde
DESCRIPTION:Führungskräfteworkshop\nKategorie: Gemeindefeuerwehr Großrücker
 swalde\nICS-Link: https://www.feuerwehr-grossrueckerswalde.de/index.php?op
 tion=com_jem&view=event&id=116:fuehrungskraefteworkshop\n
DTSTART;VALUE=DATE:20180615
DTEND;VALUE=DATE:20180617
LOCATION:Gerätehaus Großrückerswalde\,Marienberger Str. 72\,09518 Grossrück
 erswalde
SUMMARY:Führungskräfteworkshop
URL:https://www.feuerwehr-grossrueckerswalde.de/index.php?option=com_jem&vi
 ew=event&id=116:fuehrungskraefteworkshop
END:VEVENT
END:VCALENDAR
