BEGIN:VCALENDAR
VERSION:2.0
PRODID:-//81.169.145.165//NONSGML kigkonsult.se iCalcreator 2.20//
CALSCALE:GREGORIAN
METHOD:PUBLISH
X-WR-TIMEZONE:UTC
BEGIN:VEVENT
UID:event119@Gemeindefeuerwehr Großrückerswalde
DTSTAMP:20260419T220735Z
CATEGORIES:OF Großrückerswalde
DESCRIPTION:Großrückerswalde Ausbildung Digitalfunk\nKategorie: OF Großrück
 erswalde\nICS-Link: https://www.feuerwehr-grossrueckerswalde.de/index.php?
 option=com_jem&view=event&id=119:grossrueckerswalde-ausbildung-digitalfunk
 \n
DTSTART;VALUE=DATE:20180403
DTEND;VALUE=DATE:20180404
LOCATION:Gerätehaus Großrückerswalde\,Marienberger Str. 72\,09518 Grossrück
 erswalde
SUMMARY:Großrückerswalde Ausbildung Digitalfunk
URL:https://www.feuerwehr-grossrueckerswalde.de/index.php?option=com_jem&vi
 ew=event&id=119:grossrueckerswalde-ausbildung-digitalfunk
END:VEVENT
END:VCALENDAR
