BEGIN:VCALENDAR
VERSION:2.0
PRODID:-//81.169.145.165//NONSGML kigkonsult.se iCalcreator 2.20//
CALSCALE:GREGORIAN
METHOD:PUBLISH
X-WR-TIMEZONE:UTC
BEGIN:VEVENT
UID:event12@Gemeindefeuerwehr Großrückerswalde
DTSTAMP:20260420T045651Z
CATEGORIES:Ortsfeuerwehr Niederschmiedeberg
DESCRIPTION:Jahreshauptversammlung FF Niederschmiedeberg\nKategorie: Ortsfe
 uerwehr Niederschmiedeberg\nICS-Link: https://www.feuerwehr-grossrueckersw
 alde.de/index.php?option=com_jem&view=event&id=12:jahreshauptversammlung-f
 f-niederschmiedeberg\n
DTSTART:20160220T170000Z
DTEND:20160220T170000Z
LOCATION:Gerätehaus Niederschmiedeberg\,Talstraße 18\,09518 Niederschmiedeb
 erg
SUMMARY:Jahreshauptversammlung FF Niederschmiedeberg
URL:https://www.feuerwehr-grossrueckerswalde.de/index.php?option=com_jem&vi
 ew=event&id=12:jahreshauptversammlung-ff-niederschmiedeberg
END:VEVENT
END:VCALENDAR
