BEGIN:VCALENDAR
VERSION:2.0
PRODID:-//81.169.145.165//NONSGML kigkonsult.se iCalcreator 2.20//
CALSCALE:GREGORIAN
METHOD:PUBLISH
X-WR-TIMEZONE:UTC
BEGIN:VEVENT
UID:event120@Gemeindefeuerwehr Großrückerswalde
DTSTAMP:20260421T090148Z
CATEGORIES:OF Großrückerswalde
DESCRIPTION:Großrückerswalde Personenrettung aus Wasser\nKategorie: OF Groß
 rückerswalde\nICS-Link: https://www.feuerwehr-grossrueckerswalde.de/index.
 php?option=com_jem&view=event&id=120:grossrueckerswalde-personenrettung-au
 s-wasser\n
DTSTART;VALUE=DATE:20180410
DTEND;VALUE=DATE:20180411
LOCATION:Gerätehaus Großrückerswalde\,Marienberger Str. 72\,09518 Grossrück
 erswalde
SUMMARY:Großrückerswalde Personenrettung aus Wasser
URL:https://www.feuerwehr-grossrueckerswalde.de/index.php?option=com_jem&vi
 ew=event&id=120:grossrueckerswalde-personenrettung-aus-wasser
END:VEVENT
END:VCALENDAR
