BEGIN:VCALENDAR
VERSION:2.0
PRODID:-//81.169.145.165//NONSGML kigkonsult.se iCalcreator 2.20//
CALSCALE:GREGORIAN
METHOD:PUBLISH
X-WR-TIMEZONE:UTC
BEGIN:VEVENT
UID:event121@Gemeindefeuerwehr Großrückerswalde
DTSTAMP:20260419T233742Z
CATEGORIES:OF Mauersberg
DESCRIPTION:Mauersberg Atemschutz\nKategorie: OF Mauersberg\nICS-Link: http
 s://www.feuerwehr-grossrueckerswalde.de/index.php?option=com_jem&view=even
 t&id=121:mauersberg-atemschutz\n
DTSTART;VALUE=DATE:20180313
DTEND;VALUE=DATE:20180314
LOCATION:Gerätehaus Mauersberg\,Hauptstraße 4\,09518 Mauersberg
SUMMARY:Mauersberg Atemschutz
URL:https://www.feuerwehr-grossrueckerswalde.de/index.php?option=com_jem&vi
 ew=event&id=121:mauersberg-atemschutz
END:VEVENT
END:VCALENDAR
