BEGIN:VCALENDAR
VERSION:2.0
PRODID:-//81.169.145.165//NONSGML kigkonsult.se iCalcreator 2.20//
CALSCALE:GREGORIAN
METHOD:PUBLISH
X-WR-TIMEZONE:UTC
BEGIN:VEVENT
UID:event122@Gemeindefeuerwehr Großrückerswalde
DTSTAMP:20260420T065005Z
CATEGORIES:OF Mauersberg
DESCRIPTION:Mauersberg Einheiten im Löscheinsatz\nKategorie: OF Mauersberg
 \nICS-Link: https://www.feuerwehr-grossrueckerswalde.de/index.php?option=c
 om_jem&view=event&id=122:mauersberg-einheiten-im-loescheinsatz\n
DTSTART;VALUE=DATE:20180403
DTEND;VALUE=DATE:20180404
LOCATION:Gerätehaus Mauersberg\,Hauptstraße 4\,09518 Mauersberg
SUMMARY:Mauersberg Einheiten im Löscheinsatz
URL:https://www.feuerwehr-grossrueckerswalde.de/index.php?option=com_jem&vi
 ew=event&id=122:mauersberg-einheiten-im-loescheinsatz
END:VEVENT
END:VCALENDAR
