BEGIN:VCALENDAR
VERSION:2.0
PRODID:-//81.169.145.165//NONSGML kigkonsult.se iCalcreator 2.20//
CALSCALE:GREGORIAN
METHOD:PUBLISH
X-WR-TIMEZONE:UTC
BEGIN:VEVENT
UID:event123@Gemeindefeuerwehr Großrückerswalde
DTSTAMP:20260420T064043Z
CATEGORIES:OF Mauersberg
DESCRIPTION:Mauersberg Einheiten im TH Einsatz\nKategorie: OF Mauersberg\nI
 CS-Link: https://www.feuerwehr-grossrueckerswalde.de/index.php?option=com_
 jem&view=event&id=123:mauersberg-einheiten-im-th-einsatz\n
DTSTART;VALUE=DATE:20180410
DTEND;VALUE=DATE:20180411
LOCATION:Gerätehaus Mauersberg\,Hauptstraße 4\,09518 Mauersberg
SUMMARY:Mauersberg Einheiten im TH Einsatz
URL:https://www.feuerwehr-grossrueckerswalde.de/index.php?option=com_jem&vi
 ew=event&id=123:mauersberg-einheiten-im-th-einsatz
END:VEVENT
END:VCALENDAR
