BEGIN:VCALENDAR
VERSION:2.0
PRODID:-//81.169.145.165//NONSGML kigkonsult.se iCalcreator 2.20//
CALSCALE:GREGORIAN
METHOD:PUBLISH
X-WR-TIMEZONE:UTC
BEGIN:VEVENT
UID:event124@Gemeindefeuerwehr Großrückerswalde
DTSTAMP:20260419T215054Z
CATEGORIES:OF Niederschmiedeberg
DESCRIPTION:Niederschmiedeberg Gerätedienst\nKategorie: OF Niederschmiedebe
 rg\nICS-Link: https://www.feuerwehr-grossrueckerswalde.de/index.php?option
 =com_jem&view=event&id=124:niederschmiedeberg-geraetedienst\n
DTSTART;VALUE=DATE:20180306
DTEND;VALUE=DATE:20180307
LOCATION:Gerätehaus Niederschmiedeberg\,Talstraße 18\,09518 Niederschmiedeb
 erg
SUMMARY:Niederschmiedeberg Gerätedienst
URL:https://www.feuerwehr-grossrueckerswalde.de/index.php?option=com_jem&vi
 ew=event&id=124:niederschmiedeberg-geraetedienst
END:VEVENT
END:VCALENDAR
