BEGIN:VCALENDAR
VERSION:2.0
PRODID:-//81.169.145.165//NONSGML kigkonsult.se iCalcreator 2.20//
CALSCALE:GREGORIAN
METHOD:PUBLISH
X-WR-TIMEZONE:UTC
BEGIN:VEVENT
UID:event125@Gemeindefeuerwehr Großrückerswalde
DTSTAMP:20260419T220838Z
CATEGORIES:OF Niederschmiedeberg
DESCRIPTION:Niederschmiedeberg Ausbildung Digitalfunk\nKategorie: OF Nieder
 schmiedeberg\nICS-Link: https://www.feuerwehr-grossrueckerswalde.de/index.
 php?option=com_jem&view=event&id=125:niederschmiedeberg-ausbildung-digital
 funk\n
DTSTART;VALUE=DATE:20180313
DTEND;VALUE=DATE:20180314
LOCATION:Gerätehaus Niederschmiedeberg\,Talstraße 18\,09518 Niederschmiedeb
 erg
SUMMARY:Niederschmiedeberg Ausbildung Digitalfunk
URL:https://www.feuerwehr-grossrueckerswalde.de/index.php?option=com_jem&vi
 ew=event&id=125:niederschmiedeberg-ausbildung-digitalfunk
END:VEVENT
END:VCALENDAR
