BEGIN:VCALENDAR
VERSION:2.0
PRODID:-//81.169.145.165//NONSGML kigkonsult.se iCalcreator 2.20//
CALSCALE:GREGORIAN
METHOD:PUBLISH
X-WR-TIMEZONE:UTC
BEGIN:VEVENT
UID:event13@Gemeindefeuerwehr Großrückerswalde
DTSTAMP:20260420T010535Z
CATEGORIES:Ortsfeuerwehr Mauersberg
DESCRIPTION:Jahreshauptversammlung FF Mauersberg\nKategorie: Ortsfeuerwehr 
 Mauersberg\nICS-Link: https://www.feuerwehr-grossrueckerswalde.de/index.ph
 p?option=com_jem&view=event&id=13:jahreshauptversammlung-ff-mauersberg\n
DTSTART:20160213T160000Z
DTEND:20160213T160000Z
LOCATION:Gerätehaus Mauersberg\,Hauptstraße 4\,09518 Mauersberg
SUMMARY:Jahreshauptversammlung FF Mauersberg
URL:https://www.feuerwehr-grossrueckerswalde.de/index.php?option=com_jem&vi
 ew=event&id=13:jahreshauptversammlung-ff-mauersberg
END:VEVENT
END:VCALENDAR
