BEGIN:VCALENDAR
VERSION:2.0
PRODID:-//81.169.145.165//NONSGML kigkonsult.se iCalcreator 2.20//
CALSCALE:GREGORIAN
METHOD:PUBLISH
X-WR-TIMEZONE:UTC
BEGIN:VEVENT
UID:event133@Gemeindefeuerwehr Großrückerswalde
DTSTAMP:20260419T214650Z
CATEGORIES:Ortsfeuerwehr Großrückerswalde
DESCRIPTION:Kinderfest G-Bud\nKategorie: Ortsfeuerwehr Großrückerswalde\nIC
 S-Link: https://www.feuerwehr-grossrueckerswalde.de/index.php?option=com_j
 em&view=event&id=133:kinderfest-g-bud\n
DTSTART;VALUE=DATE:20210918
DTEND;VALUE=DATE:20210919
LOCATION:Parkplatz am Sportplatz GRW\,Wolkensteiner Straße\,09518 Großrücke
 rswalde
SUMMARY:Kinderfest G-Bud
URL:https://www.feuerwehr-grossrueckerswalde.de/index.php?option=com_jem&vi
 ew=event&id=133:kinderfest-g-bud
END:VEVENT
END:VCALENDAR
