BEGIN:VCALENDAR
VERSION:2.0
PRODID:-//81.169.145.165//NONSGML kigkonsult.se iCalcreator 2.20//
CALSCALE:GREGORIAN
METHOD:PUBLISH
X-WR-TIMEZONE:UTC
BEGIN:VEVENT
UID:event134@Gemeindefeuerwehr Großrückerswalde
DTSTAMP:20260419T233850Z
CATEGORIES:Ortsfeuerwehr Großrückerswalde
DESCRIPTION:Kameradschaftsabend Großrückerswalde\nKategorie: Ortsfeuerwehr 
 Großrückerswalde\nICS-Link: https://www.feuerwehr-grossrueckerswalde.de/in
 dex.php?option=com_jem&view=event&id=134:kameradschaftsabend-grossrueckers
 walde\n
DTSTART:20210925T190000Z
DTEND:20210925T190000Z
LOCATION:Gerätehaus Großrückerswalde\,Marienberger Str. 72\,09518 Grossrück
 erswalde
SUMMARY:Kameradschaftsabend Großrückerswalde
URL:https://www.feuerwehr-grossrueckerswalde.de/index.php?option=com_jem&vi
 ew=event&id=134:kameradschaftsabend-grossrueckerswalde
END:VEVENT
END:VCALENDAR
