BEGIN:VCALENDAR
VERSION:2.0
PRODID:-//81.169.145.165//NONSGML kigkonsult.se iCalcreator 2.20//
CALSCALE:GREGORIAN
METHOD:PUBLISH
X-WR-TIMEZONE:UTC
BEGIN:VEVENT
UID:event135@Gemeindefeuerwehr Großrückerswalde
DTSTAMP:20260419T234606Z
CATEGORIES:Ortsfeuerwehr Großrückerswalde
DESCRIPTION:Wandern der Gemeindefeuerwehr\nKategorie: Ortsfeuerwehr Großrüc
 kerswalde\nICS-Link: https://www.feuerwehr-grossrueckerswalde.de/index.php
 ?option=com_jem&view=event&id=135:wandern-der-gemeindefeuerwehr\n
DTSTART;VALUE=DATE:20211003
DTEND;VALUE=DATE:20211004
LOCATION:Großrückerswalde\,09518
SUMMARY:Wandern der Gemeindefeuerwehr
URL:https://www.feuerwehr-grossrueckerswalde.de/index.php?option=com_jem&vi
 ew=event&id=135:wandern-der-gemeindefeuerwehr
END:VEVENT
END:VCALENDAR
