BEGIN:VCALENDAR
VERSION:2.0
PRODID:-//81.169.145.165//NONSGML kigkonsult.se iCalcreator 2.20//
CALSCALE:GREGORIAN
METHOD:PUBLISH
X-WR-TIMEZONE:UTC
BEGIN:VEVENT
UID:event136@Gemeindefeuerwehr Großrückerswalde
DTSTAMP:20260421T085816Z
CATEGORIES:Ortsfeuerwehr Großrückerswalde
DESCRIPTION:Höhenfeuer\nKategorie: Ortsfeuerwehr Großrückerswalde\nICS-Link
 : https://www.feuerwehr-grossrueckerswalde.de/index.php?option=com_jem&vie
 w=event&id=136:hoehenfeuer\n
DTSTART;VALUE=DATE:20220430
DTEND;VALUE=DATE:20220501
LOCATION:Großrückerswalde\,09518
SUMMARY:Höhenfeuer
URL:https://www.feuerwehr-grossrueckerswalde.de/index.php?option=com_jem&vi
 ew=event&id=136:hoehenfeuer
END:VEVENT
END:VCALENDAR
