BEGIN:VCALENDAR
VERSION:2.0
PRODID:-//81.169.145.165//NONSGML kigkonsult.se iCalcreator 2.20//
CALSCALE:GREGORIAN
METHOD:PUBLISH
X-WR-TIMEZONE:UTC
BEGIN:VEVENT
UID:event138@Gemeindefeuerwehr Großrückerswalde
DTSTAMP:20260419T201834Z
CATEGORIES:Gemeindefeuerwehr Großrückerswalde
DESCRIPTION:Kreisjugendfeuerwehrtage KJF\nKategorie: Gemeindefeuerwehr Groß
 rückerswalde\nICS-Link: https://www.feuerwehr-grossrueckerswalde.de/index.
 php?option=com_jem&view=event&id=138:kreisjugendfeuerwehrtage-kjf\n
DTSTART;VALUE=DATE:20220617
DTEND;VALUE=DATE:20220620
LOCATION:Großrückerswalde\,09518
SUMMARY:Kreisjugendfeuerwehrtage KJF
URL:https://www.feuerwehr-grossrueckerswalde.de/index.php?option=com_jem&vi
 ew=event&id=138:kreisjugendfeuerwehrtage-kjf
END:VEVENT
END:VCALENDAR
