BEGIN:VCALENDAR
VERSION:2.0
PRODID:-//81.169.145.165//NONSGML kigkonsult.se iCalcreator 2.20//
CALSCALE:GREGORIAN
METHOD:PUBLISH
X-WR-TIMEZONE:UTC
BEGIN:VEVENT
UID:event14@Gemeindefeuerwehr Großrückerswalde
DTSTAMP:20260419T220408Z
CATEGORIES:Gemeindefeuerwehr Großrückerswalde
DESCRIPTION:Gemeindefeuerwehr-ausbildungstag\nKategorie: Gemeindefeuerwehr 
 Großrückerswalde\nICS-Link: https://www.feuerwehr-grossrueckerswalde.de/in
 dex.php?option=com_jem&view=event&id=14:gemeindefeuerwehrausbildungstag\n
DTSTART:20180421T080000Z
DTEND:20180421T080000Z
SUMMARY:Gemeindefeuerwehr-ausbildungstag
URL:https://www.feuerwehr-grossrueckerswalde.de/index.php?option=com_jem&vi
 ew=event&id=14:gemeindefeuerwehrausbildungstag
END:VEVENT
END:VCALENDAR
