BEGIN:VCALENDAR
VERSION:2.0
PRODID:-//81.169.145.165//NONSGML kigkonsult.se iCalcreator 2.20//
CALSCALE:GREGORIAN
METHOD:PUBLISH
X-WR-TIMEZONE:UTC
BEGIN:VEVENT
UID:event140@Gemeindefeuerwehr Großrückerswalde
DTSTAMP:20260419T233833Z
CATEGORIES:Ortsfeuerwehr Mauersberg
DESCRIPTION:Jahreshauptversammlung Mauersberg\nKategorie: Ortsfeuerwehr Mau
 ersberg\nICS-Link: https://www.feuerwehr-grossrueckerswalde.de/index.php?o
 ption=com_jem&view=event&id=140:jahreshauptversammlung-mauersberg\n
DTSTART;VALUE=DATE:20230311
DTEND;VALUE=DATE:20230312
LOCATION:Gerätehaus Mauersberg\,Hauptstraße 4\,09518 Mauersberg
SUMMARY:Jahreshauptversammlung Mauersberg
URL:https://www.feuerwehr-grossrueckerswalde.de/index.php?option=com_jem&vi
 ew=event&id=140:jahreshauptversammlung-mauersberg
END:VEVENT
END:VCALENDAR
