BEGIN:VCALENDAR
VERSION:2.0
PRODID:-//81.169.145.165//NONSGML kigkonsult.se iCalcreator 2.20//
CALSCALE:GREGORIAN
METHOD:PUBLISH
X-WR-TIMEZONE:UTC
BEGIN:VEVENT
UID:event141@Gemeindefeuerwehr Großrückerswalde
DTSTAMP:20260419T201554Z
CATEGORIES:Ortsfeuerwehr Streckewalde
DESCRIPTION:Jahreshauptversammlung Streckewalde\nKategorie: Ortsfeuerwehr S
 treckewalde\nICS-Link: https://www.feuerwehr-grossrueckerswalde.de/index.p
 hp?option=com_jem&view=event&id=141:jahreshauptversammlung-streckewalde\n
DTSTART;VALUE=DATE:20230318
DTEND;VALUE=DATE:20230319
LOCATION:Gerätehaus Streckewalde\,Bergstraße 5a\,09518 Streckewalde
SUMMARY:Jahreshauptversammlung Streckewalde
URL:https://www.feuerwehr-grossrueckerswalde.de/index.php?option=com_jem&vi
 ew=event&id=141:jahreshauptversammlung-streckewalde
END:VEVENT
END:VCALENDAR
