BEGIN:VCALENDAR
VERSION:2.0
PRODID:-//81.169.145.165//NONSGML kigkonsult.se iCalcreator 2.20//
CALSCALE:GREGORIAN
METHOD:PUBLISH
X-WR-TIMEZONE:UTC
BEGIN:VEVENT
UID:event142@Gemeindefeuerwehr Großrückerswalde
DTSTAMP:20260419T201539Z
CATEGORIES:Ortsfeuerwehr Großrückerswalde
DESCRIPTION:Höhenfeuer 2023\nKategorie: Ortsfeuerwehr Großrückerswalde\nICS
 -Link: https://www.feuerwehr-grossrueckerswalde.de/index.php?option=com_je
 m&view=event&id=142:hoehenfeuer-2023\n
DTSTART:20230430T183000Z
DTEND:20230430T183000Z
LOCATION:Fischteiche Großrückerswalde\,09518 Großrückerswalde
SUMMARY:Höhenfeuer 2023
URL:https://www.feuerwehr-grossrueckerswalde.de/index.php?option=com_jem&vi
 ew=event&id=142:hoehenfeuer-2023
END:VEVENT
END:VCALENDAR
