BEGIN:VCALENDAR
VERSION:2.0
PRODID:-//81.169.145.165//NONSGML kigkonsult.se iCalcreator 2.20//
CALSCALE:GREGORIAN
METHOD:PUBLISH
X-WR-TIMEZONE:UTC
BEGIN:VEVENT
UID:event144@Gemeindefeuerwehr Großrückerswalde
DTSTAMP:20260419T200745Z
CATEGORIES:Ortsfeuerwehr Großrückerswalde
DESCRIPTION:Wuhling G-Bud\nKategorie: Ortsfeuerwehr Großrückerswalde\nICS-L
 ink: https://www.feuerwehr-grossrueckerswalde.de/index.php?option=com_jem&
 view=event&id=144:wuhling-g-bud\n
DTSTART;VALUE=DATE:20230603
DTEND;VALUE=DATE:20230604
LOCATION:Großrückerswalde\,09518
SUMMARY:Wuhling G-Bud
URL:https://www.feuerwehr-grossrueckerswalde.de/index.php?option=com_jem&vi
 ew=event&id=144:wuhling-g-bud
END:VEVENT
END:VCALENDAR
