BEGIN:VCALENDAR
VERSION:2.0
PRODID:-//81.169.145.165//NONSGML kigkonsult.se iCalcreator 2.20//
CALSCALE:GREGORIAN
METHOD:PUBLISH
X-WR-TIMEZONE:UTC
BEGIN:VEVENT
UID:event146@Gemeindefeuerwehr Großrückerswalde
DTSTAMP:20260419T202048Z
CATEGORIES:Ortsfeuerwehr Großrückerswalde
DESCRIPTION:Die Feuerwehr bringt den Weihnachtsmann FF Großrückerswalde\nKa
 tegorie: Ortsfeuerwehr Großrückerswalde\nICS-Link: https://www.feuerwehr-g
 rossrueckerswalde.de/index.php?option=com_jem&view=event&id=146:die-feuerw
 ehr-bringt-den-weihnachtsmann-ff-grossrueckerswalde\n
DTSTART;VALUE=DATE:20251220
DTEND;VALUE=DATE:20251221
LOCATION:Großrückerswalde\,09518
SUMMARY:Die Feuerwehr bringt den Weihnachtsmann FF Großrückerswalde
URL:https://www.feuerwehr-grossrueckerswalde.de/index.php?option=com_jem&vi
 ew=event&id=146:die-feuerwehr-bringt-den-weihnachtsmann-ff-grossrueckerswa
 lde
END:VEVENT
END:VCALENDAR
