BEGIN:VCALENDAR
VERSION:2.0
PRODID:-//81.169.145.165//NONSGML kigkonsult.se iCalcreator 2.20//
CALSCALE:GREGORIAN
METHOD:PUBLISH
X-WR-TIMEZONE:UTC
BEGIN:VEVENT
UID:event15@Gemeindefeuerwehr Großrückerswalde
DTSTAMP:20260419T234526Z
CATEGORIES:Gemeindefeuerwehr Großrückerswalde
DESCRIPTION:Höhenfeuer 2018\nKategorie: Gemeindefeuerwehr Großrückerswalde
 \nICS-Link: https://www.feuerwehr-grossrueckerswalde.de/index.php?option=c
 om_jem&view=event&id=15:hexenfeuer-2018\n
DTSTART;VALUE=DATE:20180430
DTEND;VALUE=DATE:20180501
LOCATION:Gemeinde Großrückerswalde\,09518
SUMMARY:Höhenfeuer 2018
URL:https://www.feuerwehr-grossrueckerswalde.de/index.php?option=com_jem&vi
 ew=event&id=15:hexenfeuer-2018
END:VEVENT
END:VCALENDAR
