BEGIN:VCALENDAR
VERSION:2.0
PRODID:-//81.169.145.165//NONSGML kigkonsult.se iCalcreator 2.20//
CALSCALE:GREGORIAN
METHOD:PUBLISH
X-WR-TIMEZONE:UTC
BEGIN:VEVENT
UID:event16@Gemeindefeuerwehr Großrückerswalde
DTSTAMP:20260420T031816Z
CATEGORIES:Ortsfeuerwehr Streckewalde
DESCRIPTION:Dorffest 775 Jahre Streckewalde\nKategorie: Ortsfeuerwehr Strec
 kewalde\nICS-Link: https://www.feuerwehr-grossrueckerswalde.de/index.php?o
 ption=com_jem&view=event&id=16:dorffest-775-jahre-streckewalde\n
DTSTART;VALUE=DATE:20160715
DTEND;VALUE=DATE:20160718
LOCATION:Streckewalde\,09518
SUMMARY:Dorffest 775 Jahre Streckewalde
URL:https://www.feuerwehr-grossrueckerswalde.de/index.php?option=com_jem&vi
 ew=event&id=16:dorffest-775-jahre-streckewalde
END:VEVENT
END:VCALENDAR
