BEGIN:VCALENDAR
VERSION:2.0
PRODID:-//81.169.145.165//NONSGML kigkonsult.se iCalcreator 2.20//
CALSCALE:GREGORIAN
METHOD:PUBLISH
X-WR-TIMEZONE:UTC
BEGIN:VEVENT
UID:event17@Gemeindefeuerwehr Großrückerswalde
DTSTAMP:20260419T232141Z
CATEGORIES:Ortsfeuerwehr Mauersberg
DESCRIPTION:Dorffest 725 Jahre Mauersberg\nKategorie: Ortsfeuerwehr Mauersb
 erg\nICS-Link: https://www.feuerwehr-grossrueckerswalde.de/index.php?optio
 n=com_jem&view=event&id=17:dorffest-725-jahre-mauersberg\n
DTSTART;VALUE=DATE:20160817
DTEND;VALUE=DATE:20160822
LOCATION:Mauersberg\,09518
SUMMARY:Dorffest 725 Jahre Mauersberg
URL:https://www.feuerwehr-grossrueckerswalde.de/index.php?option=com_jem&vi
 ew=event&id=17:dorffest-725-jahre-mauersberg
END:VEVENT
END:VCALENDAR
