BEGIN:VCALENDAR
VERSION:2.0
PRODID:-//81.169.145.165//NONSGML kigkonsult.se iCalcreator 2.20//
CALSCALE:GREGORIAN
METHOD:PUBLISH
X-WR-TIMEZONE:UTC
BEGIN:VEVENT
UID:event18@Gemeindefeuerwehr Großrückerswalde
DTSTAMP:20260419T235834Z
CATEGORIES:Ortsfeuerwehr Großrückerswalde
DESCRIPTION:Tag der offenen Tür FF Großrückerswalde\nKategorie: Ortsfeuerwe
 hr Großrückerswalde\nICS-Link: https://www.feuerwehr-grossrueckerswalde.de
 /index.php?option=com_jem&view=event&id=18:tag-der-offenen-tuer-ff-grossru
 eckerswalde\n
DTSTART;VALUE=DATE:20160813
DTEND;VALUE=DATE:20160815
LOCATION:Gerätehaus Großrückerswalde\,Marienberger Str. 72\,09518 Grossrück
 erswalde
SUMMARY:Tag der offenen Tür FF Großrückerswalde
URL:https://www.feuerwehr-grossrueckerswalde.de/index.php?option=com_jem&vi
 ew=event&id=18:tag-der-offenen-tuer-ff-grossrueckerswalde
END:VEVENT
END:VCALENDAR
