BEGIN:VCALENDAR
VERSION:2.0
PRODID:-//81.169.145.165//NONSGML kigkonsult.se iCalcreator 2.20//
CALSCALE:GREGORIAN
METHOD:PUBLISH
X-WR-TIMEZONE:UTC
BEGIN:VEVENT
UID:event19@Gemeindefeuerwehr Großrückerswalde
DTSTAMP:20260419T233926Z
CATEGORIES:Ortsfeuerwehr Großrückerswalde
DESCRIPTION:Feuerwehrausfahrt FF Großrückerswalde\nKategorie: Ortsfeuerwehr
  Großrückerswalde\nICS-Link: https://www.feuerwehr-grossrueckerswalde.de/i
 ndex.php?option=com_jem&view=event&id=19:feuerwehrausfahrt-ff-grossruecker
 swalde\n
DTSTART;VALUE=DATE:20171014
DTEND;VALUE=DATE:20171016
LOCATION:Großrückerswalde\,09518
SUMMARY:Feuerwehrausfahrt FF Großrückerswalde
URL:https://www.feuerwehr-grossrueckerswalde.de/index.php?option=com_jem&vi
 ew=event&id=19:feuerwehrausfahrt-ff-grossrueckerswalde
END:VEVENT
END:VCALENDAR
