BEGIN:VCALENDAR
VERSION:2.0
PRODID:-//81.169.145.165//NONSGML kigkonsult.se iCalcreator 2.20//
CALSCALE:GREGORIAN
METHOD:PUBLISH
X-WR-TIMEZONE:UTC
BEGIN:VEVENT
UID:event2@Gemeindefeuerwehr Großrückerswalde
DTSTAMP:20260420T013015Z
CATEGORIES:Ortsfeuerwehr Streckewalde
DESCRIPTION:125 Jahre Feuerwehr Streckewalde\nKategorie: Ortsfeuerwehr Stre
 ckewalde\nICS-Link: https://www.feuerwehr-grossrueckerswalde.de/index.php?
 option=com_jem&view=event&id=2:125-jahre-feuerwehr-streckewalde\n
DTSTART;VALUE=DATE:20150807
DTEND;VALUE=DATE:20150810
SUMMARY:125 Jahre Feuerwehr Streckewalde
URL:https://www.feuerwehr-grossrueckerswalde.de/index.php?option=com_jem&vi
 ew=event&id=2:125-jahre-feuerwehr-streckewalde
END:VEVENT
END:VCALENDAR
