BEGIN:VCALENDAR
VERSION:2.0
PRODID:-//81.169.145.165//NONSGML kigkonsult.se iCalcreator 2.20//
CALSCALE:GREGORIAN
METHOD:PUBLISH
X-WR-TIMEZONE:UTC
BEGIN:VEVENT
UID:event20@Gemeindefeuerwehr Großrückerswalde
DTSTAMP:20260420T012956Z
CATEGORIES:Gemeindefeuerwehr Großrückerswalde
DESCRIPTION:8. Gassenlauf Großrückerswalde\nKategorie: Gemeindefeuerwehr Gr
 oßrückerswalde\nICS-Link: https://www.feuerwehr-grossrueckerswalde.de/inde
 x.php?option=com_jem&view=event&id=20:8-gassenlauf-grossrueckerswalde\n
DTSTART:20170908T170000Z
DTEND:20170908T170000Z
LOCATION:Großrückerswalde\,09518
SUMMARY:8. Gassenlauf Großrückerswalde
URL:https://www.feuerwehr-grossrueckerswalde.de/index.php?option=com_jem&vi
 ew=event&id=20:8-gassenlauf-grossrueckerswalde
END:VEVENT
END:VCALENDAR
