BEGIN:VCALENDAR
VERSION:2.0
PRODID:-//81.169.145.165//NONSGML kigkonsult.se iCalcreator 2.20//
CALSCALE:GREGORIAN
METHOD:PUBLISH
X-WR-TIMEZONE:UTC
BEGIN:VEVENT
UID:event21@Gemeindefeuerwehr Großrückerswalde
DTSTAMP:20260423T102222Z
CATEGORIES:Gemeindefeuerwehr Großrückerswalde
DESCRIPTION:Benefizkonzert für Theo Hugo Schneider\nKategorie: Gemeindefeue
 rwehr Großrückerswalde\nICS-Link: https://www.feuerwehr-grossrueckerswalde
 .de/index.php?option=com_jem&view=event&id=21:benefizkonzert\n
DTSTART:20160220T170000Z
DTEND:20160220T170000Z
LOCATION:Wehrkirche Großrückerswalde\,09518 Großrückerswalde
SUMMARY:Benefizkonzert für Theo Hugo Schneider
URL:https://www.feuerwehr-grossrueckerswalde.de/index.php?option=com_jem&vi
 ew=event&id=21:benefizkonzert
END:VEVENT
END:VCALENDAR
