BEGIN:VCALENDAR
VERSION:2.0
PRODID:-//81.169.145.165//NONSGML kigkonsult.se iCalcreator 2.20//
CALSCALE:GREGORIAN
METHOD:PUBLISH
X-WR-TIMEZONE:UTC
BEGIN:VEVENT
UID:event22@Gemeindefeuerwehr Großrückerswalde
DTSTAMP:20260420T045711Z
CATEGORIES:Ortsfeuerwehr Niederschmiedeberg
DESCRIPTION:Sommerfest FF Niederschmiedeberg\nKategorie: Ortsfeuerwehr Nied
 erschmiedeberg\nICS-Link: https://www.feuerwehr-grossrueckerswalde.de/inde
 x.php?option=com_jem&view=event&id=22:sommerfest-ff-niederschmiedeberg\n
DTSTART;VALUE=DATE:20180818
DTEND;VALUE=DATE:20180819
LOCATION:Gerätehaus Niederschmiedeberg\,Talstraße 18\,09518 Niederschmiedeb
 erg
SUMMARY:Sommerfest FF Niederschmiedeberg
URL:https://www.feuerwehr-grossrueckerswalde.de/index.php?option=com_jem&vi
 ew=event&id=22:sommerfest-ff-niederschmiedeberg
END:VEVENT
END:VCALENDAR
