BEGIN:VCALENDAR
VERSION:2.0
PRODID:-//81.169.145.165//NONSGML kigkonsult.se iCalcreator 2.20//
CALSCALE:GREGORIAN
METHOD:PUBLISH
X-WR-TIMEZONE:UTC
BEGIN:VEVENT
UID:event23@Gemeindefeuerwehr Großrückerswalde
DTSTAMP:20260420T064426Z
CATEGORIES:Ortsfeuerwehr Großrückerswalde
DESCRIPTION:Weihnachtsfeier FF Großrückerswalde\nKategorie: Ortsfeuerwehr G
 roßrückerswalde\nICS-Link: https://www.feuerwehr-grossrueckerswalde.de/ind
 ex.php?option=com_jem&view=event&id=23:weihnachtsfeier-ff-grossrueckerswal
 de\n
DTSTART:20171215T190000Z
DTEND:20171215T190000Z
LOCATION:Gerätehaus Großrückerswalde\,Marienberger Str. 72\,09518 Grossrück
 erswalde
SUMMARY:Weihnachtsfeier FF Großrückerswalde
URL:https://www.feuerwehr-grossrueckerswalde.de/index.php?option=com_jem&vi
 ew=event&id=23:weihnachtsfeier-ff-grossrueckerswalde
END:VEVENT
END:VCALENDAR
