BEGIN:VCALENDAR
VERSION:2.0
PRODID:-//81.169.145.165//NONSGML kigkonsult.se iCalcreator 2.20//
CALSCALE:GREGORIAN
METHOD:PUBLISH
X-WR-TIMEZONE:UTC
BEGIN:VEVENT
UID:event24@Gemeindefeuerwehr Großrückerswalde
DTSTAMP:20260419T234738Z
CATEGORIES:Dienste
DESCRIPTION:Motorkettensägen und Beleuchtungsmittel\nKategorie: Dienste\nIC
 S-Link: https://www.feuerwehr-grossrueckerswalde.de/index.php?option=com_j
 em&view=event&id=24:motorkettensaegen-und-beleuchtungsmittel\n
DTSTART:20161011T190000Z
DTEND:20161011T190000Z
LOCATION:Gerätehaus Großrückerswalde\,Marienberger Str. 72\,09518 Grossrück
 erswalde
SUMMARY:Motorkettensägen und Beleuchtungsmittel
URL:https://www.feuerwehr-grossrueckerswalde.de/index.php?option=com_jem&vi
 ew=event&id=24:motorkettensaegen-und-beleuchtungsmittel
END:VEVENT
END:VCALENDAR
