BEGIN:VCALENDAR
VERSION:2.0
PRODID:-//81.169.145.165//NONSGML kigkonsult.se iCalcreator 2.20//
CALSCALE:GREGORIAN
METHOD:PUBLISH
X-WR-TIMEZONE:UTC
BEGIN:VEVENT
UID:event29@Gemeindefeuerwehr Großrückerswalde
DTSTAMP:20260420T031334Z
CATEGORIES:Gemeindefeuerwehr
DESCRIPTION:Gemeindefeuerwehr Digitalfunk\nKategorie: Gemeindefeuerwehr\nIC
 S-Link: https://www.feuerwehr-grossrueckerswalde.de/index.php?option=com_j
 em&view=event&id=29:gemeindefeuerwehr-digitalfunk\n
DTSTART:20170207T193000Z
DTEND:20170207T193000Z
LOCATION:Oberschule Großrückerswalde\,Wolkensteiner Straße 3\,09518 Großrüc
 kerswalde
SUMMARY:Gemeindefeuerwehr Digitalfunk
URL:https://www.feuerwehr-grossrueckerswalde.de/index.php?option=com_jem&vi
 ew=event&id=29:gemeindefeuerwehr-digitalfunk
END:VEVENT
END:VCALENDAR
