BEGIN:VCALENDAR
VERSION:2.0
PRODID:-//81.169.145.165//NONSGML kigkonsult.se iCalcreator 2.20//
CALSCALE:GREGORIAN
METHOD:PUBLISH
X-WR-TIMEZONE:UTC
BEGIN:VEVENT
UID:event3@Gemeindefeuerwehr Großrückerswalde
DTSTAMP:20260420T031329Z
CATEGORIES:Gemeindefeuerwehr Großrückerswalde
DESCRIPTION:Interschutz 2015 in Hannover\nKategorie: Gemeindefeuerwehr Groß
 rückerswalde\nICS-Link: https://www.feuerwehr-grossrueckerswalde.de/index.
 php?option=com_jem&view=event&id=3:interschutz-2015-in-hannover\n
DTSTART;VALUE=DATE:20150608
DTEND;VALUE=DATE:20150614
SUMMARY:Interschutz 2015 in Hannover
URL:https://www.feuerwehr-grossrueckerswalde.de/index.php?option=com_jem&vi
 ew=event&id=3:interschutz-2015-in-hannover
END:VEVENT
END:VCALENDAR
