BEGIN:VCALENDAR
VERSION:2.0
PRODID:-//81.169.145.165//NONSGML kigkonsult.se iCalcreator 2.20//
CALSCALE:GREGORIAN
METHOD:PUBLISH
X-WR-TIMEZONE:UTC
BEGIN:VEVENT
UID:event30@Gemeindefeuerwehr Großrückerswalde
DTSTAMP:20260419T234821Z
CATEGORIES:Ortsfeuerwehr Großrückerswalde
DESCRIPTION:Tag der offenen Tür der FF Großrückerswalde\nKategorie: Ortsfeu
 erwehr Großrückerswalde\nICS-Link: https://www.feuerwehr-grossrueckerswald
 e.de/index.php?option=com_jem&view=event&id=30:tag-der-offenen-tuer-der-ff
 -grossrueckerswalde\n
DTSTART;VALUE=DATE:20180602
DTEND;VALUE=DATE:20180604
LOCATION:Gerätehaus Großrückerswalde\,Marienberger Str. 72\,09518 Grossrück
 erswalde
SUMMARY:Tag der offenen Tür der FF Großrückerswalde
URL:https://www.feuerwehr-grossrueckerswalde.de/index.php?option=com_jem&vi
 ew=event&id=30:tag-der-offenen-tuer-der-ff-grossrueckerswalde
END:VEVENT
END:VCALENDAR
