BEGIN:VCALENDAR
VERSION:2.0
PRODID:-//81.169.145.165//NONSGML kigkonsult.se iCalcreator 2.20//
CALSCALE:GREGORIAN
METHOD:PUBLISH
X-WR-TIMEZONE:UTC
BEGIN:VEVENT
UID:event32@Gemeindefeuerwehr Großrückerswalde
DTSTAMP:20260420T011609Z
CATEGORIES:Gemeindefeuerwehr Großrückerswalde
DESCRIPTION:Gemeindefeuerwehrball\nKategorie: Gemeindefeuerwehr Großrückers
 walde\nICS-Link: https://www.feuerwehr-grossrueckerswalde.de/index.php?opt
 ion=com_jem&view=event&id=32:gemeindefeuerwehrball\n
DTSTART:20170128T183000Z
DTEND:20170128T183000Z
LOCATION:Streckewalde Turnhalle\,Bergstraße 51A\,09518 Streckewalde
SUMMARY:Gemeindefeuerwehrball
URL:https://www.feuerwehr-grossrueckerswalde.de/index.php?option=com_jem&vi
 ew=event&id=32:gemeindefeuerwehrball
END:VEVENT
END:VCALENDAR
