BEGIN:VCALENDAR
VERSION:2.0
PRODID:-//81.169.145.165//NONSGML kigkonsult.se iCalcreator 2.20//
CALSCALE:GREGORIAN
METHOD:PUBLISH
X-WR-TIMEZONE:UTC
BEGIN:VEVENT
UID:event35@Gemeindefeuerwehr Großrückerswalde
DTSTAMP:20260421T100452Z
CATEGORIES:Ortsfeuerwehr Streckewalde
DESCRIPTION:Jahreshauptversammlung FF Streckewalde\nKategorie: Ortsfeuerweh
 r Streckewalde\nICS-Link: https://www.feuerwehr-grossrueckerswalde.de/inde
 x.php?option=com_jem&view=event&id=35:jahreshauptversammlung-ff-streckewal
 de\n
DTSTART;VALUE=DATE:20180324
DTEND;VALUE=DATE:20180325
LOCATION:Streckewalde\,09518
SUMMARY:Jahreshauptversammlung FF Streckewalde
URL:https://www.feuerwehr-grossrueckerswalde.de/index.php?option=com_jem&vi
 ew=event&id=35:jahreshauptversammlung-ff-streckewalde
END:VEVENT
END:VCALENDAR
